BEGIN:VCALENDAR
VERSION:2.0
PRODID:-//Palmetto Partnerships - ECPv6.15.18//NONSGML v1.0//EN
CALSCALE:GREGORIAN
METHOD:PUBLISH
X-ORIGINAL-URL:https://palmettopartnership.org
X-WR-CALDESC:Events for Palmetto Partnerships
REFRESH-INTERVAL;VALUE=DURATION:PT1H
X-Robots-Tag:noindex
X-PUBLISHED-TTL:PT1H
BEGIN:VTIMEZONE
TZID:UTC
BEGIN:STANDARD
TZOFFSETFROM:+0000
TZOFFSETTO:+0000
TZNAME:UTC
DTSTART:20250101T000000
END:STANDARD
END:VTIMEZONE
BEGIN:VEVENT
DTSTART;TZID=UTC:20260903T180000
DTEND;TZID=UTC:20260903T200000
DTSTAMP:20260422T230126
CREATED:20260303T192903Z
LAST-MODIFIED:20260303T192903Z
UID:924-1788458400-1788465600@palmettopartnership.org
SUMMARY:Dinner & Friends
DESCRIPTION:Location:  517 S. Coit Street\, Florence\, SC \nTime: 6 PM \nRegistration link: https://fs27.formsite.com/all4autism/oscdzs4f5h/index
URL:https://palmettopartnership.org/event/dinner-friends-2/
LOCATION:The Palmetto Partnership Office\, 517 S. Coit Street\, Florence\, SC\, 29501\, United States
END:VEVENT
BEGIN:VEVENT
DTSTART;TZID=UTC:20260910T083000
DTEND;TZID=UTC:20260910T100000
DTSTAMP:20260422T230126
CREATED:20260303T192014Z
LAST-MODIFIED:20260303T192014Z
UID:906-1789029000-1789034400@palmettopartnership.org
SUMMARY:Coffee & Friends
DESCRIPTION:Location: 517 S. Coit Street\, Florence\, SC \nTime: 8:30 AM
URL:https://palmettopartnership.org/event/coffee-friends-8/
LOCATION:The Palmetto Partnership Office\, 517 S. Coit Street\, Florence\, SC\, 29501\, United States
END:VEVENT
END:VCALENDAR