BEGIN:VCALENDAR
VERSION:2.0
PRODID:-//Palmetto Partnerships - ECPv6.15.18//NONSGML v1.0//EN
CALSCALE:GREGORIAN
METHOD:PUBLISH
X-WR-CALNAME:Palmetto Partnerships
X-ORIGINAL-URL:https://palmettopartnership.org
X-WR-CALDESC:Events for Palmetto Partnerships
REFRESH-INTERVAL;VALUE=DURATION:PT1H
X-Robots-Tag:noindex
X-PUBLISHED-TTL:PT1H
BEGIN:VTIMEZONE
TZID:UTC
BEGIN:STANDARD
TZOFFSETFROM:+0000
TZOFFSETTO:+0000
TZNAME:UTC
DTSTART:20240101T000000
END:STANDARD
END:VTIMEZONE
BEGIN:VEVENT
DTSTART;TZID=UTC:20251104T100000
DTEND;TZID=UTC:20251104T130000
DTSTAMP:20260424T195010
CREATED:20251010T214629Z
LAST-MODIFIED:20251010T214629Z
UID:814-1762250400-1762261200@palmettopartnership.org
SUMMARY:2025 Caregiver Resource Fair
DESCRIPTION:
URL:https://palmettopartnership.org/event/2025-caregiver-resource-fair/
LOCATION:Florence Family YMCA\, 1700 S. Rutherford Drive\, Florence\, SC\, 29505\, United States
END:VEVENT
END:VCALENDAR