BEGIN:VCALENDAR
VERSION:2.0
PRODID:-//Palmetto Partnerships - ECPv6.15.18//NONSGML v1.0//EN
CALSCALE:GREGORIAN
METHOD:PUBLISH
X-WR-CALNAME:Palmetto Partnerships
X-ORIGINAL-URL:https://palmettopartnership.org
X-WR-CALDESC:Events for Palmetto Partnerships
REFRESH-INTERVAL;VALUE=DURATION:PT1H
X-Robots-Tag:noindex
X-PUBLISHED-TTL:PT1H
BEGIN:VTIMEZONE
TZID:UTC
BEGIN:STANDARD
TZOFFSETFROM:+0000
TZOFFSETTO:+0000
TZNAME:UTC
DTSTART:20240101T000000
END:STANDARD
END:VTIMEZONE
BEGIN:VEVENT
DTSTART;TZID=UTC:20250903T113000
DTEND;TZID=UTC:20250903T130000
DTSTAMP:20260424T162839
CREATED:20250805T154734Z
LAST-MODIFIED:20250805T154734Z
UID:809-1756899000-1756904400@palmettopartnership.org
SUMMARY:Parenting with Purpose: A Positive Parenting Series Session 3: Changing Problem Behavior into Positive Behavior
DESCRIPTION:Learn how to turn chaos into calm with six step-by-step tools to manage challenging behavior and build better routines. Register!
URL:https://palmettopartnership.org/event/parenting-with-purpose-a-positive-parenting-series-session-3-changing-problem-behavior-into-positive-behavior/
LOCATION:SC
END:VEVENT
BEGIN:VEVENT
DTSTART;TZID=UTC:20250909T120000
DTEND;TZID=UTC:20250909T130000
DTSTAMP:20260424T162839
CREATED:20250805T154317Z
LAST-MODIFIED:20250805T154317Z
UID:799-1757419200-1757422800@palmettopartnership.org
SUMMARY:Family Connection:  Let's Talk TEFRA
DESCRIPTION:Join Family Connection’s health care team for a conversation about TEFRA Medicaid. Register!
URL:https://palmettopartnership.org/event/family-connection-lets-talk-tefra/
LOCATION:SC
END:VEVENT
BEGIN:VEVENT
DTSTART;TZID=UTC:20250917T083000
DTEND;TZID=UTC:20250917T093000
DTSTAMP:20260424T162839
CREATED:20250805T154111Z
LAST-MODIFIED:20250805T154111Z
UID:795-1758097800-1758101400@palmettopartnership.org
SUMMARY:Family Connection: Understanding the IEP
DESCRIPTION:This workshop will walk you through the special education process\, break down key terms\, explain what is in an IEP\, and help you feel confident and prepared as a key member of your child’s team. Register!
URL:https://palmettopartnership.org/event/family-connection-understanding-the-iep/
LOCATION:SC
END:VEVENT
BEGIN:VEVENT
DTSTART;TZID=UTC:20250927T090000
DTEND;TZID=UTC:20250927T130000
DTSTAMP:20260424T162839
CREATED:20250805T154830Z
LAST-MODIFIED:20250805T154830Z
UID:811-1758963600-1758978000@palmettopartnership.org
SUMMARY:Support Parent Training
DESCRIPTION:This training equips you with the skills to provide other parents with emotional support and helpful resources. Register!
URL:https://palmettopartnership.org/event/support-parent-training-5/
LOCATION:SC
END:VEVENT
END:VCALENDAR