BEGIN:VCALENDAR
VERSION:2.0
PRODID:-//Palmetto Partnerships - ECPv6.15.18//NONSGML v1.0//EN
CALSCALE:GREGORIAN
METHOD:PUBLISH
X-ORIGINAL-URL:https://palmettopartnership.org
X-WR-CALDESC:Events for Palmetto Partnerships
REFRESH-INTERVAL;VALUE=DURATION:PT1H
X-Robots-Tag:noindex
X-PUBLISHED-TTL:PT1H
BEGIN:VTIMEZONE
TZID:UTC
BEGIN:STANDARD
TZOFFSETFROM:+0000
TZOFFSETTO:+0000
TZNAME:UTC
DTSTART:20240101T000000
END:STANDARD
END:VTIMEZONE
BEGIN:VEVENT
DTSTART;TZID=UTC:20250807T120000
DTEND;TZID=UTC:20250807T130000
DTSTAMP:20260424T144302
CREATED:20250805T154008Z
LAST-MODIFIED:20250805T154008Z
UID:793-1754568000-1754571600@palmettopartnership.org
SUMMARY:Family Connection: Journey Toolkit: The Power of Organization
DESCRIPTION:Learn strategies to organize medical and school records so you can communicate clearly and advocate confidently. This hands-on workshop will help you build a “journey book” to keep everything in one place.\nRegister
URL:https://palmettopartnership.org/event/family-connection-journey-toolkit-the-power-of-organization/
LOCATION:SC
END:VEVENT
BEGIN:VEVENT
DTSTART;TZID=UTC:20250811T120000
DTEND;TZID=UTC:20250811T130000
DTSTAMP:20260424T144302
CREATED:20250805T154222Z
LAST-MODIFIED:20250805T154222Z
UID:797-1754913600-1754917200@palmettopartnership.org
SUMMARY:Family Connection: SC Medicaid Waivers: A Guide for Parents
DESCRIPTION:Join our healthcare team as they discuss waivers available in SC\, who they are intended for\, and how to get started! Register!
URL:https://palmettopartnership.org/event/family-connection-sc-medicaid-waivers-a-guide-for-parents/
LOCATION:SC
END:VEVENT
BEGIN:VEVENT
DTSTART;TZID=UTC:20250820T113000
DTEND;TZID=UTC:20250820T130000
DTSTAMP:20260424T144302
CREATED:20250805T154600Z
LAST-MODIFIED:20250805T154600Z
UID:805-1755689400-1755694800@palmettopartnership.org
SUMMARY:Parenting with Purpose: A Positive Parenting Series  Session 1: Parenting for Children with a Disability
DESCRIPTION:Discover the seven key principles of positive parenting for children with disabilities. Learn how to create a safe\, nurturing\, and engaging home environment that supports learning and development. Register!
URL:https://palmettopartnership.org/event/parenting-with-purpose-a-positive-parenting-series-session-1-parenting-for-children-with-a-disability/
LOCATION:SC
END:VEVENT
BEGIN:VEVENT
DTSTART;TZID=UTC:20250821T120000
DTEND;TZID=UTC:20250821T130000
DTSTAMP:20260424T144302
CREATED:20250805T154417Z
LAST-MODIFIED:20250805T154417Z
UID:801-1755777600-1755781200@palmettopartnership.org
SUMMARY:WAZE to Adulthood: Parent & Professional Training:  Pathway to Success: Independent Living
DESCRIPTION:>When it comes to planning for life after high school\, it is important to think about working\, learning\, and living in our communities. These topics play a part in the various paths a person may choose to take in pursuing their independent living goals. Register!
URL:https://palmettopartnership.org/event/waze-to-adulthood-parent-professional-training-pathway-to-success-independent-living/
LOCATION:SC
END:VEVENT
BEGIN:VEVENT
DTSTART;TZID=UTC:20250821T180000
DTEND;TZID=UTC:20250821T190000
DTSTAMP:20260424T144302
CREATED:20250805T154506Z
LAST-MODIFIED:20250805T154506Z
UID:803-1755799200-1755802800@palmettopartnership.org
SUMMARY:WAZE to Adulthood - Youth Training: Your Pathway to Success: Independent Living
DESCRIPTION:Join us for a live Zoom webinar as we discuss various independent living skills that will benefit you as you prepare for adulthood. Register!
URL:https://palmettopartnership.org/event/waze-to-adulthood-youth-training-your-pathway-to-success-independent-living/
LOCATION:SC
END:VEVENT
BEGIN:VEVENT
DTSTART;TZID=UTC:20250827T113000
DTEND;TZID=UTC:20250827T130000
DTSTAMP:20260424T144302
CREATED:20250805T154648Z
LAST-MODIFIED:20250805T154648Z
UID:807-1756294200-1756299600@palmettopartnership.org
SUMMARY:Parenting with Purpose: A Positive Parenting Series Session 2: Helping Your Child Reach Their Potential
DESCRIPTION:Get six powerful tips to become your child’s most effective teacher at home. Support school success and daily life skills with simple\, positive strategies. Register!
URL:https://palmettopartnership.org/event/parenting-with-purpose-a-positive-parenting-series-session-2-helping-your-child-reach-their-potential/
LOCATION:SC
END:VEVENT
END:VCALENDAR