BEGIN:VCALENDAR
VERSION:2.0
PRODID:-//Palmetto Partnerships - ECPv6.15.18//NONSGML v1.0//EN
CALSCALE:GREGORIAN
METHOD:PUBLISH
X-WR-CALNAME:Palmetto Partnerships
X-ORIGINAL-URL:https://palmettopartnership.org
X-WR-CALDESC:Events for Palmetto Partnerships
REFRESH-INTERVAL;VALUE=DURATION:PT1H
X-Robots-Tag:noindex
X-PUBLISHED-TTL:PT1H
BEGIN:VTIMEZONE
TZID:UTC
BEGIN:STANDARD
TZOFFSETFROM:+0000
TZOFFSETTO:+0000
TZNAME:UTC
DTSTART:20240101T000000
END:STANDARD
END:VTIMEZONE
BEGIN:VEVENT
DTSTART;TZID=UTC:20250917T083000
DTEND;TZID=UTC:20250917T093000
DTSTAMP:20260424T180331
CREATED:20250805T154111Z
LAST-MODIFIED:20250805T154111Z
UID:795-1758097800-1758101400@palmettopartnership.org
SUMMARY:Family Connection: Understanding the IEP
DESCRIPTION:This workshop will walk you through the special education process\, break down key terms\, explain what is in an IEP\, and help you feel confident and prepared as a key member of your child’s team. Register!
URL:https://palmettopartnership.org/event/family-connection-understanding-the-iep/
LOCATION:SC
END:VEVENT
END:VCALENDAR